BEGIN:VCALENDAR
VERSION:2.0
PRODID:-//pretix//ESN_Germany's_Ticket_Shop//
BEGIN:VTIMEZONE
TZID:Europe/Berlin
BEGIN:STANDARD
DTSTART:20001029T040000
RRULE:FREQ=YEARLY;BYDAY=-1SU;BYMONTH=10
TZNAME:CET
TZOFFSETFROM:+0200
TZOFFSETTO:+0100
END:STANDARD
BEGIN:DAYLIGHT
DTSTART:20000326T030000
RRULE:FREQ=YEARLY;BYDAY=-1SU;BYMONTH=3
TZNAME:CEST
TZOFFSETFROM:+0100
TZOFFSETTO:+0200
END:DAYLIGHT
END:VTIMEZONE
BEGIN:VEVENT
UID:pretix-esnmesamunich-seebergkopf-sose26-0@tickets.esn-germany.de
DTSTART;TZID=Europe/Berlin:20260426T082000
DTEND;TZID=Europe/Berlin:20260426T173000
DESCRIPTION:Tickets: https://tickets.esn-germany.de/esnmesamunich/seebergko
 pf-sose26/\nOrganizer: ESN MESA München
DTSTAMP:20260420T164614Z
LOCATION:Munich Central Station\, Platform 34 (RB55)
SUMMARY:Hike to Seebergkopf
END:VEVENT
END:VCALENDAR
