BEGIN:VCALENDAR
VERSION:2.0
PRODID:-//pretix//ESN_Germany's_Ticket_Shop//
BEGIN:VTIMEZONE
TZID:Europe/Berlin
BEGIN:STANDARD
DTSTART:20001029T040000
RRULE:FREQ=YEARLY;BYDAY=-1SU;BYMONTH=10
TZNAME:CET
TZOFFSETFROM:+0200
TZOFFSETTO:+0100
END:STANDARD
BEGIN:DAYLIGHT
DTSTART:20000326T030000
RRULE:FREQ=YEARLY;BYDAY=-1SU;BYMONTH=3
TZNAME:CEST
TZOFFSETFROM:+0100
TZOFFSETTO:+0200
END:DAYLIGHT
END:VTIMEZONE
BEGIN:VEVENT
UID:pretix-esnmesamunich-football-match-sose26-0@tickets.esn-germany.de
DTSTART;TZID=Europe/Berlin:20260425T164500
DTEND;TZID=Europe/Berlin:20260425T174500
DESCRIPTION:Tickets: https://tickets.esn-germany.de/esnmesamunich/football-
 match-sose26/\nOrganizer: ESN MESA München
DTSTAMP:20260420T163725Z
LOCATION:Geschwister-Scholl-Platz 1
SUMMARY:Football Match
END:VEVENT
END:VCALENDAR
