BEGIN:VCALENDAR
VERSION:2.0
PRODID:-//pretix//ESN_Germany's_Ticket_Shop//
BEGIN:VTIMEZONE
TZID:Europe/Berlin
BEGIN:STANDARD
DTSTART:20001029T040000
RRULE:FREQ=YEARLY;BYDAY=-1SU;BYMONTH=10
TZNAME:CET
TZOFFSETFROM:+0200
TZOFFSETTO:+0100
END:STANDARD
BEGIN:DAYLIGHT
DTSTART:20000326T030000
RRULE:FREQ=YEARLY;BYDAY=-1SU;BYMONTH=3
TZNAME:CEST
TZOFFSETFROM:+0100
TZOFFSETTO:+0200
END:DAYLIGHT
END:VTIMEZONE
BEGIN:VEVENT
UID:pretix-esnfreiburg-citytour-ss26-0@tickets.esn-germany.de
DTSTART;TZID=Europe/Berlin:20260410T120000
DTEND;TZID=Europe/Berlin:20260410T130000
DESCRIPTION:Tickets: https://tickets.esn-germany.de/esnfreiburg/citytour-ss
 26/\nOrganizer: ESN Freiburg
DTSTAMP:20260422T104403Z
LOCATION:Platz der Alten Synagoge
SUMMARY:ESN Freiburg 101 City Tour
END:VEVENT
BEGIN:VEVENT
UID:pretix-esnfreiburg-welcomehike-ss26-0@tickets.esn-germany.de
DTSTART;TZID=Europe/Berlin:20260411T100000
DTEND;TZID=Europe/Berlin:20260411T110000
DESCRIPTION:Tickets: https://tickets.esn-germany.de/esnfreiburg/welcomehike
 -ss26/\nOrganizer: ESN Freiburg
DTSTAMP:20260422T104403Z
SUMMARY:ESN Welcome Hike
END:VEVENT
BEGIN:VEVENT
UID:pretix-esnfreiburg-opfingersee-ss26-0@tickets.esn-germany.de
DTSTART;TZID=Europe/Berlin:20260412T103000
DTEND;TZID=Europe/Berlin:20260412T113000
DESCRIPTION:Tickets: https://tickets.esn-germany.de/esnfreiburg/opfingersee
 -ss26/\nOrganizer: ESN Freiburg
DTSTAMP:20260422T104403Z
LOCATION:Japanischer Garten\, Seepark\, Freiburg
SUMMARY:ESN Freiburg Opfinger See Adventure – Sun\, Swim & Marathon Madne
 ss!
END:VEVENT
BEGIN:VEVENT
UID:pretix-esnfreiburg-cityrally-ss26-0@tickets.esn-germany.de
DTSTART;TZID=Europe/Berlin:20260415T170000
DTEND;TZID=Europe/Berlin:20260415T180000
DESCRIPTION:Tickets: https://tickets.esn-germany.de/esnfreiburg/cityrally-s
 s26/\nOrganizer: ESN Freiburg
DTSTAMP:20260422T104403Z
SUMMARY:ESN City Rally
END:VEVENT
BEGIN:VEVENT
UID:pretix-esnfreiburg-museums-ss26-0@tickets.esn-germany.de
DTSTART;TZID=Europe/Berlin:20260417T134500
DTEND;TZID=Europe/Berlin:20260417T144500
DESCRIPTION:Tickets: https://tickets.esn-germany.de/esnfreiburg/museums-ss2
 6/\nOrganizer: ESN Freiburg
DTSTAMP:20260422T104403Z
SUMMARY:ESN Day of Museums
END:VEVENT
BEGIN:VEVENT
UID:pretix-esnfreiburg-speedfriending-ss26-0@tickets.esn-germany.de
DTSTART;TZID=Europe/Berlin:20260417T190000
DTEND;TZID=Europe/Berlin:20260417T200000
DESCRIPTION:Tickets: https://tickets.esn-germany.de/esnfreiburg/speedfriend
 ing-ss26/\nOrganizer: ESN Freiburg
DTSTAMP:20260422T104403Z
SUMMARY:ESN Speed Friending
END:VEVENT
BEGIN:VEVENT
UID:pretix-esnfreiburg-wasen-ss26-0@tickets.esn-germany.de
DTSTART;TZID=Europe/Berlin:20260419T083000
DTEND;TZID=Europe/Berlin:20260419T093000
DESCRIPTION:Tickets: https://tickets.esn-germany.de/esnfreiburg/wasen-ss26/
 \nOrganizer: ESN Freiburg
DTSTAMP:20260422T104403Z
SUMMARY:ESN City Trip to Stuttgart & Wasen
END:VEVENT
BEGIN:VEVENT
UID:pretix-esnfreiburg-wasenentry-ss26-0@tickets.esn-germany.de
DTSTART;TZID=Europe/Berlin:20260419T160000
DTEND;TZID=Europe/Berlin:20260419T170000
DESCRIPTION:Tickets: https://tickets.esn-germany.de/esnfreiburg/wasenentry-
 ss26/\nOrganizer: ESN Freiburg
DTSTAMP:20260422T104403Z
SUMMARY:ESN Wasen entry only
END:VEVENT
BEGIN:VEVENT
UID:pretix-esnfreiburg-pubcrawl-ss26-0@tickets.esn-germany.de
DTSTART;TZID=Europe/Berlin:20260421T193000
DTEND;TZID=Europe/Berlin:20260421T203000
DESCRIPTION:Tickets: https://tickets.esn-germany.de/esnfreiburg/pubcrawl-ss
 26/\nOrganizer: ESN Freiburg
DTSTAMP:20260422T104403Z
SUMMARY:ESN Pubcrawl
END:VEVENT
BEGIN:VEVENT
UID:pretix-esnfreiburg-culturedinner-ss26-0@tickets.esn-germany.de
DTSTART;TZID=Europe/Berlin:20260422T200000
DTEND;TZID=Europe/Berlin:20260422T210000
DESCRIPTION:Tickets: https://tickets.esn-germany.de/esnfreiburg/culturedinn
 er-ss26/\nOrganizer: ESN Freiburg
DTSTAMP:20260422T104403Z
SUMMARY:ESN Share Your Culture Dinner
END:VEVENT
BEGIN:VEVENT
UID:pretix-esnfreiburg-flunkyball-ss26-0@tickets.esn-germany.de
DTSTART;TZID=Europe/Berlin:20260424T170000
DTEND;TZID=Europe/Berlin:20260424T180000
DESCRIPTION:Tickets: https://tickets.esn-germany.de/esnfreiburg/flunkyball-
 ss26/\nOrganizer: ESN Freiburg
DTSTAMP:20260422T104403Z
SUMMARY:ESN Flunky Ball
END:VEVENT
END:VCALENDAR
