BEGIN:VCALENDAR
VERSION:2.0
PRODID:-//pretix//ESN_Germany's_Ticket_Shop//
BEGIN:VTIMEZONE
TZID:Europe/Berlin
BEGIN:STANDARD
DTSTART:20001029T040000
RRULE:FREQ=YEARLY;BYDAY=-1SU;BYMONTH=10
TZNAME:CET
TZOFFSETFROM:+0200
TZOFFSETTO:+0100
END:STANDARD
BEGIN:DAYLIGHT
DTSTART:20000326T030000
RRULE:FREQ=YEARLY;BYDAY=-1SU;BYMONTH=3
TZNAME:CEST
TZOFFSETFROM:+0100
TZOFFSETTO:+0200
END:DAYLIGHT
END:VTIMEZONE
BEGIN:VEVENT
UID:pretix-esnffm-oktoberfest-0@tickets.esn-germany.de
DTSTART;TZID=Europe/Berlin:20220930T090000
DTEND;TZID=Europe/Berlin:20221002T220000
DESCRIPTION:Tickets: https://tickets.esn-germany.de/esnffm/oktoberfest/\nOr
 ganizer: ESN Frankfurt Main
DTSTAMP:20260423T153114Z
LOCATION:Frankfurt Hbf\, Track 10\, 9.15 am
SUMMARY:München / Oktoberfest Weekend Trip
END:VEVENT
END:VCALENDAR
