BEGIN:VCALENDAR
VERSION:2.0
PRODID:-//pretix//ESN_Germany's_Ticket_Shop//
BEGIN:VEVENT
UID:pretix-esnffm-IndoorSkydiving-0@tickets.esn-germany.de
DTSTART;VALUE=DATE:20250111
DTEND;VALUE=DATE:20250112
DESCRIPTION:Tickets: https://tickets.esn-germany.de/esnffm/IndoorSkydiving/
 \nOrganizer: ESN Frankfurt Main
DTSTAMP:20260422T210735Z
SUMMARY:Indoor Skydiving
END:VEVENT
END:VCALENDAR
