BEGIN:VCALENDAR
VERSION:2.0
PRODID:-//pretix//ESN_Germany's_Ticket_Shop//
BEGIN:VTIMEZONE
TZID:Europe/Berlin
BEGIN:STANDARD
DTSTART:20001029T040000
RRULE:FREQ=YEARLY;BYDAY=-1SU;BYMONTH=10
TZNAME:CET
TZOFFSETFROM:+0200
TZOFFSETTO:+0100
END:STANDARD
BEGIN:DAYLIGHT
DTSTART:20000326T030000
RRULE:FREQ=YEARLY;BYDAY=-1SU;BYMONTH=3
TZNAME:CEST
TZOFFSETFROM:+0100
TZOFFSETTO:+0200
END:DAYLIGHT
END:VTIMEZONE
BEGIN:VEVENT
UID:pretix-esndarmstadt-9asdc-0@tickets.esn-germany.de
DTSTART;TZID=Europe/Berlin:20220528T102000
DTEND;TZID=Europe/Berlin:20220528T112000
DESCRIPTION:Tickets: https://tickets.esn-germany.de/esndarmstadt/9asdc/\nOr
 ganizer: ESN Darmstadt
DTSTAMP:20260420T100720Z
LOCATION:Darmstadt Hauptbahnhof /  Darmstadt Central Station
SUMMARY:ESN Middle-Rhine-Valley Hike
END:VEVENT
END:VCALENDAR
