BEGIN:VCALENDAR
VERSION:2.0
PRODID:-//pretix//ESN_Germany's_Ticket_Shop//
BEGIN:VTIMEZONE
TZID:Europe/Berlin
BEGIN:STANDARD
DTSTART:20001029T040000
RRULE:FREQ=YEARLY;BYDAY=-1SU;BYMONTH=10
TZNAME:CET
TZOFFSETFROM:+0200
TZOFFSETTO:+0100
END:STANDARD
BEGIN:DAYLIGHT
DTSTART:20000326T030000
RRULE:FREQ=YEARLY;BYDAY=-1SU;BYMONTH=3
TZNAME:CEST
TZOFFSETFROM:+0100
TZOFFSETTO:+0200
END:DAYLIGHT
END:VTIMEZONE
BEGIN:VEVENT
UID:pretix-esnbraunschweig-OEP-WS24-10-0@tickets.esn-germany.de
DTSTART;TZID=Europe/Berlin:20250221T190000
DTEND;TZID=Europe/Berlin:20250221T200000
DESCRIPTION:Tickets: https://tickets.esn-germany.de/esnbraunschweig/OEP-WS2
 4-10/\nOrganizer: ESN Braunschweig
DTSTAMP:20260422T085930Z
LOCATION:BRICS (Room 045)
SUMMARY:Connecting Outgoings & Homecomings
END:VEVENT
END:VCALENDAR
